BEGIN:VCALENDAR
PRODID:-//Solspace/Calendar 2.x//EN
VERSION:2.0
CALSCALE:GREGORIAN
BEGIN:VEVENT
UID:2b342c67092de6f8276fc3c063367dd2@solspace.com
DTSTAMP:20260421T130740
DTSTART:20251001T160000
DTEND:20251001T170000
SUMMARY:Kol Nidre Tot Service
END:VEVENT
END:VCALENDAR
