BEGIN:VCALENDAR
PRODID:-//Solspace/Calendar 2.x//EN
VERSION:2.0
CALSCALE:GREGORIAN
BEGIN:VEVENT
UID:8171a4e9e39b3d80a9be81d061a1b4d3@solspace.com
DTSTAMP:20260421T130740
DTSTART:20251001T190000
DTEND:20251001T200000
SUMMARY:Kol Nidre Service
END:VEVENT
END:VCALENDAR
