BEGIN:VCALENDAR
PRODID:-//Solspace/Calendar 2.x//EN
VERSION:2.0
CALSCALE:GREGORIAN
BEGIN:VEVENT
UID:d3e3744e3735a3eadb39212ce56a185d@solspace.com
DTSTAMP:20260421T130826
DTSTART:20251002T100000
DTEND:20251002T120000
SUMMARY:Yom Kippur Traditional Service
END:VEVENT
END:VCALENDAR
