BEGIN:VCALENDAR
PRODID:-//Solspace/Calendar 2.x//EN
VERSION:2.0
CALSCALE:GREGORIAN
BEGIN:VEVENT
UID:a6a7c6252b79be816f91ddb71cd47942@solspace.com
DTSTAMP:20260421T130841
DTSTART:20251002T100000
DTEND:20251002T110000
SUMMARY:Yom Kippur Upper Elementary Service
END:VEVENT
END:VCALENDAR
