BEGIN:VCALENDAR
PRODID:-//Solspace/Calendar 2.x//EN
VERSION:2.0
CALSCALE:GREGORIAN
BEGIN:VEVENT
UID:36f116753642677da2144d9baaf3287b@solspace.com
DTSTAMP:20260421T130721
DTSTART:20251002T110000
DTEND:20251002T120000
SUMMARY:Yom Kippur Service for Families with Young Children
END:VEVENT
END:VCALENDAR
