BEGIN:VCALENDAR
PRODID:-//Solspace/Calendar 2.x//EN
VERSION:2.0
CALSCALE:GREGORIAN
BEGIN:VEVENT
UID:5f3489b67f7847a740353d6e2966c3fc@solspace.com
DTSTAMP:20260421T130722
DTSTART:20251002T120000
DTEND:20251002T130000
SUMMARY:Sermon Talk Back
END:VEVENT
END:VCALENDAR
