BEGIN:VCALENDAR
PRODID:-//Solspace/Calendar 2.x//EN
VERSION:2.0
CALSCALE:GREGORIAN
BEGIN:VEVENT
UID:0ece0ca03a9f1478434fe65b39f383c0@solspace.com
DTSTAMP:20260421T130825
DTSTART:20251002T130000
DTEND:20251002T140000
SUMMARY:Yom Kippur Teaching: “How does Judaism understand forgiven
 ess? Is there anything unforgivable?”
END:VEVENT
END:VCALENDAR
