BEGIN:VCALENDAR
PRODID:-//Solspace/Calendar 2.x//EN
VERSION:2.0
CALSCALE:GREGORIAN
BEGIN:VEVENT
UID:2c73a64d2d3be8cc6440616e20108919@solspace.com
DTSTAMP:20260421T130906
DTSTART:20251002T140000
DTEND:20251002T150000
SUMMARY:Music and Meditation
END:VEVENT
END:VCALENDAR
