BEGIN:VCALENDAR
PRODID:-//Solspace/Calendar 2.x//EN
VERSION:2.0
CALSCALE:GREGORIAN
BEGIN:VEVENT
UID:4146a3b48c428dc171dbefa3af897215@solspace.com
DTSTAMP:20260421T130919
DTSTART:20251002T150000
DTEND:20251002T190000
SUMMARY:Afternoon Service\, Yizkor\, and Ne'ila
END:VEVENT
END:VCALENDAR
