BEGIN:VCALENDAR
PRODID:-//Solspace/Calendar 2.x//EN
VERSION:2.0
CALSCALE:GREGORIAN
BEGIN:VEVENT
UID:a4db2703af5451877ae49f6249da6f93@solspace.com
DTSTAMP:20260421T130740
DTSTART:20251002T160000
DTEND:20251002T170000
SUMMARY:Yom Kippur Teen Experience
END:VEVENT
END:VCALENDAR
