BEGIN:VCALENDAR
PRODID:-//Solspace/Calendar 2.x//EN
VERSION:2.0
CALSCALE:GREGORIAN
BEGIN:VEVENT
UID:06bef4a95f8988e4aa9c6a036bd5e722@solspace.com
DTSTAMP:20260421T130842
DTSTART:20251002T173000
DTEND:20251002T183000
SUMMARY:Omek Ne'ila and Break Fast
END:VEVENT
END:VCALENDAR
