BEGIN:VCALENDAR
PRODID:-//Solspace/Calendar 2.x//EN
VERSION:2.0
CALSCALE:GREGORIAN
BEGIN:VEVENT
UID:fe697ee9b24bfb71d1badee1ad91bc6e@solspace.com
DTSTAMP:20260421T130918
DTSTART:20251019T150000
DTEND:20251019T160000
SUMMARY:Two Centuries to Zionism
END:VEVENT
END:VCALENDAR
