BEGIN:VCALENDAR
PRODID:-//Solspace/Calendar 2.x//EN
VERSION:2.0
CALSCALE:GREGORIAN
BEGIN:VEVENT
UID:003586079fab8861f99e77a776b53ab2@solspace.com
DTSTAMP:20260421T113655
DTSTART:20251120T183000
DTEND:20251120T193000
SUMMARY:WRJ/Beth Israel Sisterhood "Shop and Swap"
END:VEVENT
END:VCALENDAR
