BEGIN:VCALENDAR
PRODID:-//Solspace/Calendar 2.x//EN
VERSION:2.0
CALSCALE:GREGORIAN
BEGIN:VEVENT
UID:5e37ad4b932b36c890e7c2216d083c90@solspace.com
DTSTAMP:20260421T084630
DTSTART:20260124T173000
DTEND:20260124T183000
SUMMARY:WRJ/Beth Israel Sisterhood Havdalah
END:VEVENT
END:VCALENDAR
