BEGIN:VCALENDAR
PRODID:-//Solspace/Calendar 2.x//EN
VERSION:2.0
CALSCALE:GREGORIAN
BEGIN:VEVENT
UID:6361fe2df367e4e19e9afec635975dc2@solspace.com
DTSTAMP:20260421T162008
DTSTART:20250829T180000
DTEND:20250829T190000
SUMMARY:From Tel Aviv to Portland: Reflections from Rabbi Cahana  a
 nd Shabbat Evening Service 
END:VEVENT
END:VCALENDAR
