BEGIN:VCALENDAR
PRODID:-//Solspace/Calendar 2.x//EN
VERSION:2.0
CALSCALE:GREGORIAN
BEGIN:VEVENT
UID:7f1a5b37bf6d68f2b36cda47ee05c761@solspace.com
DTSTAMP:20260421T162009
DTSTART:20250830T103000
DTEND:20250830T113000
SUMMARY:Spotlight Shabbat with Judge Michael Simon
END:VEVENT
END:VCALENDAR
