BEGIN:VCALENDAR
PRODID:-//Solspace/Calendar 2.x//EN
VERSION:2.0
CALSCALE:GREGORIAN
BEGIN:VEVENT
UID:b81436e477a95b553fd92abb1a430cd5@solspace.com
DTSTAMP:20260421T130740
DTSTART;VALUE=DATE:20251007
DTEND;VALUE=DATE:20251008
SUMMARY:CBI Main Office Closed for Sukkot
END:VEVENT
END:VCALENDAR
