BEGIN:VCALENDAR
PRODID:-//Solspace/Calendar 2.x//EN
VERSION:2.0
CALSCALE:GREGORIAN
BEGIN:VEVENT
UID:007aa4a39c3adfc67b81694ff406771a@solspace.com
DTSTAMP:20260421T131019
DTSTART:20251025T170000
DTEND:20251025T200000
SUMMARY:October Date Night
END:VEVENT
END:VCALENDAR
