BEGIN:VCALENDAR
PRODID:-//Solspace/Calendar 2.x//EN
VERSION:2.0
CALSCALE:GREGORIAN
BEGIN:VEVENT
UID:23e50c173481439d722f1d0fc53c1a1c@solspace.com
DTSTAMP:20260421T130918
DTSTART:20251011T170000
DTEND:20251011T183000
SUMMARY:Havdalah Bar Mitzvah of Elias Soll
END:VEVENT
END:VCALENDAR
