BEGIN:VCALENDAR
PRODID:-//Solspace/Calendar 2.x//EN
VERSION:2.0
CALSCALE:GREGORIAN
BEGIN:VEVENT
UID:0fbb24771151404a1d49b138a85f7060@solspace.com
DTSTAMP:20260421T131020
DTSTART:20251012T160000
DTEND:20251012T180000
SUMMARY:Sukkot Open House at the Cahana Home
END:VEVENT
END:VCALENDAR
