BEGIN:VCALENDAR
PRODID:-//Solspace/Calendar 2.x//EN
VERSION:2.0
CALSCALE:GREGORIAN
BEGIN:VEVENT
UID:d8e2c0096bf75045fa3ae2b53b13984e@solspace.com
DTSTAMP:20260421T130907
DTSTART:20251014T103000
DTEND:20251014T113000
SUMMARY:Simchat Torah Festival and Yizkor Service
END:VEVENT
END:VCALENDAR
