BEGIN:VCALENDAR
PRODID:-//Solspace/Calendar 2.x//EN
VERSION:2.0
CALSCALE:GREGORIAN
BEGIN:VEVENT
UID:2b33ef75d1af3bf50e5c516a27a5b149@solspace.com
DTSTAMP:20260421T131009
DTSTART;VALUE=DATE:20251014
DTEND;VALUE=DATE:20251015
SUMMARY:CBI Main Office Closed for Simchat Torah
END:VEVENT
END:VCALENDAR
