BEGIN:VCALENDAR
PRODID:-//Solspace/Calendar 2.x//EN
VERSION:2.0
CALSCALE:GREGORIAN
BEGIN:VEVENT
UID:624ba93ff41e09458aad56c64676e85e@solspace.com
DTSTAMP:20260421T130907
DTSTART:20251018T103000
DTEND:20251018T113000
SUMMARY:Bat Mitzvah of Lucy Eder and Shabbat Moring Service
END:VEVENT
END:VCALENDAR
