BEGIN:VCALENDAR
PRODID:-//Solspace/Calendar 2.x//EN
VERSION:2.0
CALSCALE:GREGORIAN
BEGIN:VEVENT
UID:54291cb6ab26154d66eae9c9bfd5bbee@solspace.com
DTSTAMP:20260421T131038
DTSTART:20251018T170000
DTEND:20251018T180000
SUMMARY:Havdalah Bat Mitzvah of Ari James
END:VEVENT
END:VCALENDAR
