BEGIN:VCALENDAR
PRODID:-//Solspace/Calendar 2.x//EN
VERSION:2.0
CALSCALE:GREGORIAN
BEGIN:VEVENT
UID:bf8da2e521ce26aac4cbd70b43a21094@solspace.com
DTSTAMP:20260421T113913
DTSTART:20251119T183000
DTEND:20251119T193000
SUMMARY:Board of Trustees Meeting
END:VEVENT
END:VCALENDAR
