BEGIN:VCALENDAR
PRODID:-//Solspace/Calendar 2.x//EN
VERSION:2.0
CALSCALE:GREGORIAN
BEGIN:VEVENT
UID:b3f3bf09e68195f9297e28ba4f29058f@solspace.com
DTSTAMP:20260421T100442
DTSTART:20251217T183000
DTEND:20251217T193000
SUMMARY:Board of Trustees Meeting
END:VEVENT
END:VCALENDAR
