BEGIN:VCALENDAR
PRODID:-//Solspace/Calendar 2.x//EN
VERSION:2.0
CALSCALE:GREGORIAN
BEGIN:VEVENT
UID:1375901699fe20dac4dab878b2d6fad0@solspace.com
DTSTAMP:20260421T113727
DTSTART:20251101T170000
DTEND:20251101T200000
SUMMARY:November Date Night
END:VEVENT
END:VCALENDAR
