BEGIN:VCALENDAR
PRODID:-//Solspace/Calendar 2.x//EN
VERSION:2.0
CALSCALE:GREGORIAN
BEGIN:VEVENT
UID:72f1532479477f032e7743675331d285@solspace.com
DTSTAMP:20260423T082649
DTSTART;VALUE=DATE:20260123
DTEND;VALUE=DATE:20260125
SUMMARY:Middle School Shul-In
END:VEVENT
END:VCALENDAR
