BEGIN:VCALENDAR
PRODID:-//Solspace/Calendar 2.x//EN
VERSION:2.0
CALSCALE:GREGORIAN
BEGIN:VEVENT
UID:128cf4c4108ad93838bc4575d7898555@solspace.com
DTSTAMP:20260421T113918
DTSTART:20251109T101500
DTEND:20251109T121500
SUMMARY:Second Grade CBI Scavenger Hunt
END:VEVENT
END:VCALENDAR
