BEGIN:VCALENDAR
PRODID:-//Solspace/Calendar 2.x//EN
VERSION:2.0
CALSCALE:GREGORIAN
BEGIN:VEVENT
UID:6c1dec437494964d5ae1a018c5e598c5@solspace.com
DTSTAMP:20260421T113752
DTSTART:20251109T153000
DTEND:20251109T173000
SUMMARY:It Is No Dream
END:VEVENT
END:VCALENDAR
