BEGIN:VCALENDAR
PRODID:-//Solspace/Calendar 2.x//EN
VERSION:2.0
CALSCALE:GREGORIAN
BEGIN:VEVENT
UID:671314785b617b5e3585200858f89f4c@solspace.com
DTSTAMP:20260421T084516
DTSTART:20260111T093000
DTEND:20260111T120000
SUMMARY:Mitzvah Project Family Program (for Sixth Grade Students and
  Their Families)
END:VEVENT
END:VCALENDAR
