BEGIN:VCALENDAR
PRODID:-//Solspace/Calendar 2.x//EN
VERSION:2.0
CALSCALE:GREGORIAN
BEGIN:VEVENT
UID:3541b357dbb46a43b5013fd96d774de8@solspace.com
DTSTAMP:20260421T114036
DTSTART;VALUE=DATE:20251127
DTEND;VALUE=DATE:20251129
SUMMARY:CBI Main Office Closed for Thanksgiving
END:VEVENT
END:VCALENDAR
