BEGIN:VCALENDAR
PRODID:-//Solspace/Calendar 2.x//EN
VERSION:2.0
CALSCALE:GREGORIAN
BEGIN:VEVENT
UID:1a98d890cb6271db4286b50030d23043@solspace.com
DTSTAMP:20260421T100556
DTSTART:20251214T101500
DTEND:20251214T121500
SUMMARY:Chanukah Fair for Pre-K through Second Grade
END:VEVENT
END:VCALENDAR
