BEGIN:VCALENDAR
PRODID:-//Solspace/Calendar 2.x//EN
VERSION:2.0
CALSCALE:GREGORIAN
BEGIN:VEVENT
UID:df4d8b48d4b156436a3889a1444c7e7e@solspace.com
DTSTAMP:20260421T100604
DTSTART;VALUE=DATE:20251214
DTEND;VALUE=DATE:20251223
SUMMARY:Chanukah
END:VEVENT
END:VCALENDAR
