BEGIN:VCALENDAR
PRODID:-//Solspace/Calendar 2.x//EN
VERSION:2.0
CALSCALE:GREGORIAN
BEGIN:VEVENT
UID:8a980983870c0686d9d534647554c244@solspace.com
DTSTAMP:20260421T100441
DTSTART;VALUE=DATE:20251225
DTEND;VALUE=DATE:20251226
SUMMARY:CBI Main Office Closed
END:VEVENT
END:VCALENDAR
