BEGIN:VCALENDAR
PRODID:-//Solspace/Calendar 2.x//EN
VERSION:2.0
CALSCALE:GREGORIAN
BEGIN:VEVENT
UID:113400b61c67329bfa610e7cdfa1f467@solspace.com
DTSTAMP:20260421T100435
DTSTART:20251225T090000
DTEND:20251225T160000
SUMMARY:Community Holiday Dinner
END:VEVENT
END:VCALENDAR
