BEGIN:VCALENDAR
PRODID:-//Solspace/Calendar 2.x//EN
VERSION:2.0
CALSCALE:GREGORIAN
BEGIN:VEVENT
UID:7bced5be0da3505ff04bb3121fafec1f@solspace.com
DTSTAMP:20260421T084115
DTSTART:20260110T103000
DTEND:20260110T113000
SUMMARY:B'nei Mitzvah of Tommy Moore and Elena Moore and Shabbat Mor
 ning Service
END:VEVENT
END:VCALENDAR
