BEGIN:VCALENDAR
PRODID:-//Solspace/Calendar 2.x//EN
VERSION:2.0
CALSCALE:GREGORIAN
BEGIN:VEVENT
UID:5c4c6508c2239af3ac694220e4bb4ca7@solspace.com
DTSTAMP:20260421T131020
DTSTART:20251025T103000
DTEND:20251025T113000
SUMMARY:Bar Mitzvah of Toby Michels and Shabbat Morning Service
END:VEVENT
END:VCALENDAR
