BEGIN:VCALENDAR
PRODID:-//Solspace/Calendar 2.x//EN
VERSION:2.0
CALSCALE:GREGORIAN
BEGIN:VEVENT
UID:f6cd3901fbf96bdd3790490bc0eb6a9e@solspace.com
DTSTAMP:20260421T144121
DTSTART:20250903T180000
DTEND:20250903T190000
SUMMARY:Whole and Holy: Welcoming LGBTQ+ Community in Sacred Spaces
END:VEVENT
END:VCALENDAR
