BEGIN:VCALENDAR
PRODID:-//Solspace/Calendar 2.x//EN
VERSION:2.0
CALSCALE:GREGORIAN
BEGIN:VEVENT
UID:4a948cf99db413a316ce1e45325d5418@solspace.com
DTSTAMP:20260421T144514
DTSTART:20250912T190000
DTEND:20250912T200000
SUMMARY:Outliers and Outlaws: a Shabbat Dinner Hosted by Rabbi Rache
 l Joseph
END:VEVENT
END:VCALENDAR
