BEGIN:VCALENDAR
PRODID:-//Solspace/Calendar 2.x//EN
VERSION:2.0
CALSCALE:GREGORIAN
BEGIN:VEVENT
UID:89d545bd16a6e9303849e719dbe6503b@solspace.com
DTSTAMP:20260421T130905
DTSTART:20251004T090000
DTEND:20251004T100000
SUMMARY:Torah Study - Hybrid
END:VEVENT
END:VCALENDAR
