BEGIN:VCALENDAR
PRODID:-//Solspace/Calendar 2.x//EN
VERSION:2.0
CALSCALE:GREGORIAN
BEGIN:VEVENT
UID:8e968eee363d1094920edc71da85ceec@solspace.com
DTSTAMP:20260421T131009
DTSTART:20251017T180000
DTEND:20251017T190000
SUMMARY:Simchat Torah Shabbat Service
END:VEVENT
END:VCALENDAR
