BEGIN:VCALENDAR
PRODID:-//Solspace/Calendar 2.x//EN
VERSION:2.0
CALSCALE:GREGORIAN
BEGIN:VEVENT
UID:4c15bd47b90e1a55a263f6fbdfed888b@solspace.com
DTSTAMP:20260421T144341
DTSTART:20250922T130000
DTEND:20250922T150000
SUMMARY:Sisterhood Sweets Plating
END:VEVENT
END:VCALENDAR
