BEGIN:VCALENDAR
PRODID:-//Solspace/Calendar 2.x//EN
VERSION:2.0
CALSCALE:GREGORIAN
BEGIN:VEVENT
UID:060377e84638a21635039ef2d54a57d0@solspace.com
DTSTAMP:20260421T144137
DTSTART:20250904T120000
DTEND:20250904T133000
SUMMARY:Interfaith Alliance On Poverty - September Meeting
END:VEVENT
END:VCALENDAR
