BEGIN:VCALENDAR
PRODID:-//Solspace/Calendar 2.x//EN
VERSION:2.0
CALSCALE:GREGORIAN
BEGIN:VEVENT
UID:1a8dcde7751c54c86202f37402960421@solspace.com
DTSTAMP:20260421T144233
DTSTART:20250910T183000
DTEND:20250910T203000
SUMMARY:Sisterhood New Membership Schmooze
END:VEVENT
END:VCALENDAR
