BEGIN:VCALENDAR
PRODID:-//Solspace/Calendar 2.x//EN
VERSION:2.0
CALSCALE:GREGORIAN
BEGIN:VEVENT
UID:dd98c157c86d5bbf38a4da2506e36de4@solspace.com
DTSTAMP:20260421T144123
DTSTART:20250929T103000
DTEND:20250929T113000
SUMMARY:Not Just New Members Coffee
END:VEVENT
END:VCALENDAR
