BEGIN:VCALENDAR
PRODID:-//Solspace/Calendar 2.x//EN
VERSION:2.0
CALSCALE:GREGORIAN
BEGIN:VEVENT
UID:9288610b7d0bf31b1769af1292a4db00@solspace.com
DTSTAMP:20260421T113901
DTSTART:20251103T103000
DTEND:20251103T113000
SUMMARY:Not Just New Members Coffee
END:VEVENT
END:VCALENDAR
