BEGIN:VCALENDAR
PRODID:-//Solspace/Calendar 2.x//EN
VERSION:2.0
CALSCALE:GREGORIAN
BEGIN:VEVENT
UID:c4c968fe7a1d59d94b134c88508c5405@solspace.com
DTSTAMP:20260421T113728
DTSTART:20251105T183000
DTEND:20251105T193000
SUMMARY:Sisterhood New Membership Schmooze
END:VEVENT
END:VCALENDAR
