BEGIN:VCALENDAR
PRODID:-//Solspace/Calendar 2.x//EN
VERSION:2.0
CALSCALE:GREGORIAN
BEGIN:VEVENT
UID:309933ea1925c43d901d0bc14eb85283@solspace.com
DTSTAMP:20260421T144123
DTSTART;VALUE=DATE:20250921
DTEND;VALUE=DATE:20250922
RRULE:FREQ=WEEKLY;UNTIL=20250929T235959Z;INTERVAL=1;BYDAY=SU
SUMMARY:No Religious School
END:VEVENT
END:VCALENDAR
