BEGIN:VCALENDAR
PRODID:-//Solspace/Calendar 2.x//EN
VERSION:2.0
CALSCALE:GREGORIAN
BEGIN:VEVENT
UID:341f18a53942cccfd60c8f4f24fa4b6a@solspace.com
DTSTAMP:20260421T100443
DTSTART:20251220T103000
DTEND:20251220T113000
SUMMARY:B'nei Mitzvah of Adlai Collins-Horowitz and Aven Collins-Hor
 owitz and Shabbat Morning Service
END:VEVENT
END:VCALENDAR
